Workbook

Sheet Βαθμολογίες
I1: MDC ΗΡΑΚΛΕΙΟ 27-28/10/18
A4: α.α. | B4: Α.Σ. | C4: ΕΠΙΘΕΤΟ | D4: ΟΝΟΜΑ | E4: ΑΥΤΟΚΙΝΗΤΟ | F4: Κ1 | G4: Κ2 | H4: Κ3 | I4: Μ.Ο | J4: Κ1 | K4: Κ2 | L4: Κ3 | M4: Μ.Ο. | N4: Κ1 | O4: Κ2 | P4: Κ3 | Q4: Μ.Ο. | R4: TOP PASS
A5: 17 | B5: 48 | C5: XRISTOFOROY | D5: GIORGOS | E5: BMW | F5: 96 | G5: 93 | H5: 96 | I5: =(F5+G5+H5)/3 -> 95 | J5: 99 | K5: 99 | L5: 99 | M5: =(J5+K5+L5)/3 -> 99 | N5: 96 | O5: 95 | P5: 95 | Q5: =(N5+O5+P5)/3 -> 95.333333 | R5: =MAX(Q5,M5,I5) -> 99
A6: 1 | B6: 1 | C6: GRILLIS | D6: STAYROS | E6: TOYOTA | F6: 0 | G6: 0 | H6: 0 | I6: =(F6+G6+H6)/3 -> 0 | J6: 91 | K6: 93 | L6: 97 | M6: =(J6+K6+L6)/3 -> 93.666667 | N6: 97 | O6: 98 | P6: 98 | Q6: =(N6+O6+P6)/3 -> 97.666667 | R6: =MAX(Q6,M6,I6) -> 97.666667
A7: 5 | B7: 8 | C7: XARKAS | D7: TASOS | E7: BMW | F7: 94 | G7: 92 | H7: 95 | I7: =(F7+G7+H7)/3 -> 93.666667 | J7: 97 | K7: 96 | L7: 97 | M7: =(J7+K7+L7)/3 -> 96.666667 | N7: 98 | O7: 97 | P7: 97 | Q7: =(N7+O7+P7)/3 -> 97.333333 | R7: =MAX(Q7,M7,I7) -> 97.333333
A8: 3 | B8: 3 | C8: GOLOVNYA | D8: ALEX | E8: NISSAN | F8: 92 | G8: 91 | H8: 90 | I8: =(F8+G8+H8)/3 -> 91 | J8: 96 | K8: 97 | L8: 98 | M8: =(J8+K8+L8)/3 -> 97 | N8: 0 | O8: 0 | P8: 0 | Q8: =(N8+O8+P8)/3 -> 0 | R8: =MAX(Q8,M8,I8) -> 97
A9: 16 | B9: 42 | C9: DAVID | D9: DAVID | E9: NISSAN | F9: 92 | G9: 89 | H9: 90 | I9: =(F9+G9+H9)/3 -> 90.333333 | J9: 91 | K9: 93 | L9: 90 | M9: =(J9+K9+L9)/3 -> 91.333333 | N9: 95 | O9: 97 | P9: 95 | Q9: =(N9+O9+P9)/3 -> 95.666667 | R9: =MAX(Q9,M9,I9) -> 95.666667
A10: 10 | B10: 27 | C10: DIMITROPOULOS | D10: KOSTAS | E10: BMW | F10: 91 | G10: 89 | H10: 92 | I10: =(F10+G10+H10)/3 -> 90.666667 | J10: 95 | K10: 94 | L10: 95 | M10: =(J10+K10+L10)/3 -> 94.666667 | N10: 96 | O10: 96 | P10: 94 | Q10: =(N10+O10+P10)/3 -> 95.333333 | R10: =MAX(Q10,M10,I10) -> 95.333333
A11: 18 | B11: 49 | C11: GRIGORIOU | D11: SERTZIO | E11: BMW | F11: 93 | G11: 93 | H11: 93 | I11: =(F11+G11+H11)/3 -> 93 | J11: 96 | K11: 94 | L11: 94 | M11: =(J11+K11+L11)/3 -> 94.666667 | N11: 92 | O11: 90 | P11: 90 | Q11: =(N11+O11+P11)/3 -> 90.666667 | R11: =MAX(Q11,M11,I11) -> 94.666667
A12: 2 | B12: 2 | C12: ILLUYK | D12: DMITRIY | E12: NISSAN | F12: 94 | G12: 93 | H12: 94 | I12: =(F12+G12+H12)/3 -> 93.666667 | J12: 93 | K12: 93 | L12: 93 | M12: =(J12+K12+L12)/3 -> 93 | N12: 0 | O12: 0 | P12: 0 | Q12: =(N12+O12+P12)/3 -> 0 | R12: =MAX(Q12,M12,I12) -> 93.666667
A13: 13 | B13: 39 | C13: MARIOU | D13: KIRIAKOS | E13: NISSAN | F13: 91 | G13: 90 | H13: 93 | I13: =(F13+G13+H13)/3 -> 91.333333 | J13: 60 | K13: 70 | L13: 80 | M13: =(J13+K13+L13)/3 -> 70 | N13: 92 | O13: 92 | P13: 94 | Q13: =(N13+O13+P13)/3 -> 92.666667 | R13: =MAX(Q13,M13,I13) -> 92.666667
A14: 11 | B14: 35 | C14: PAMPOS | D14: TSOURI | E14: NISSAN | F14: 91 | G14: 92 | H14: 91 | I14: =(F14+G14+H14)/3 -> 91.333333 | J14: 92 | K14: 93 | L14: 90 | M14: =(J14+K14+L14)/3 -> 91.666667 | N14: 88 | O14: 88 | P14: 88 | Q14: =(N14+O14+P14)/3 -> 88 | R14: =MAX(Q14,M14,I14) -> 91.666667
A15: 30 | B15: 89 | C15: PAPAGEORGIOU | D15: GIORGOS | E15: BMW | F15: 78 | G15: 83 | H15: 85 | I15: =(F15+G15+H15)/3 -> 82 | J15: 93 | K15: 93 | L15: 89 | M15: =(J15+K15+L15)/3 -> 91.666667 | N15: 90 | O15: 87 | P15: 87 | Q15: =(N15+O15+P15)/3 -> 88 | R15: =MAX(Q15,M15,I15) -> 91.666667
A16: 20 | B16: 51 | C16: NIKOLAOY | D16: PAMPOS | E16: NISSAN | F16: 90 | G16: 89 | H16: 85 | I16: =(F16+G16+H16)/3 -> 88 | J16: 92 | K16: 93 | L16: 89 | M16: =(J16+K16+L16)/3 -> 91.333333 | N16: 65 | O16: 70 | P16: 65 | Q16: =(N16+O16+P16)/3 -> 66.666667 | R16: =MAX(Q16,M16,I16) -> 91.333333
... A40: 32 | B40: 91 | C40: TSOUROUNAKIS | D40: GIANNIS | E40: BMW | F40: 0 | G40: 0 | H40: 0 | I40: =(F40+G40+H40)/3 -> 0 | J40: 0 | K40: 0 | L40: 0 | M40: =(J40+K40+L40)/3 -> 0 | N40: 0 | O40: 0 | P40: 0 | Q40: =(N40+O40+P40)/3 -> 0 | R40: =MAX(Q40,M40,I40) -> 0
A41: 34 | B41: 93 | C41: PETRAKIS | D41: MIXALIS | E41: OPEL | I41: =(F41+G41+H41)/3 -> 0 | M41: =(J41+K41+L41)/3 -> 0 | Q41: =(N41+O41+P41)/3 -> 0 | R41: =MAX(Q41,M41,I41) -> 0
A42: 38 | I42: =(F42+G42+H42)/3 -> 0 | M42: =(J42+K42+L42)/3 -> 0 | Q42: =(N42+O42+P42)/3 -> 0 | R42: =MAX(Q42,M42,I42) -> 0
A43: 39 | I43: =(F43+G43+H43)/3 -> 0 | M43: =(J43+K43+L43)/3 -> 0 | Q43: =(N43+O43+P43)/3 -> 0 | R43: =MAX(Q43,M43,I43) -> 0
A44: 40 | I44: =(F44+G44+H44)/3 -> 0 | M44: =(J44+K44+L44)/3 -> 0 | Q44: =(N44+O44+P44)/3 -> 0 | R44: =MAX(Q44,M44,I44) -> 0
A45: 41 | I45: =(F45+G45+H45)/3 -> 0 | M45: =(J45+K45+L45)/3 -> 0 | Q45: =(N45+O45+P45)/3 -> 0 | R45: =MAX(Q45,M45,I45) -> 0
A46: 42 | I46: =(F46+G46+H46)/3 -> 0 | M46: =(J46+K46+L46)/3 -> 0 | Q46: =(N46+O46+P46)/3 -> 0 | R46: =MAX(Q46,M46,I46) -> 0
A47: 43 | I47: =(F47+G47+H47)/3 -> 0 | M47: =(J47+K47+L47)/3 -> 0 | Q47: =(N47+O47+P47)/3 -> 0 | R47: =MAX(Q47,M47,I47) -> 0
A48: 44 | I48: =(F48+G48+H48)/3 -> 0 | M48: =(J48+K48+L48)/3 -> 0 | Q48: =(N48+O48+P48)/3 -> 0 | R48: =MAX(Q48,M48,I48) -> 0
A49: 45 | I49: =(F49+G49+H49)/3 -> 0 | M49: =(J49+K49+L49)/3 -> 0 | Q49: =(N49+O49+P49)/3 -> 0 | R49: =MAX(Q49,M49,I49) -> 0
A50: 46 | I50: =(F50+G50+H50)/3 -> 0 | M50: =(J50+K50+L50)/3 -> 0 | Q50: =(N50+O50+P50)/3 -> 0 | R50: =MAX(Q50,M50,I50) -> 0
A51: 47 | I51: =(F51+G51+H51)/3 -> 0 | M51: =(J51+K51+L51)/3 -> 0 | Q51: =(N51+O51+P51)/3 -> 0 | R51: =MAX(Q51,M51,I51) -> 0
A52: 48 | I52: =(F52+G52+H52)/3 -> 0 | M52: =(J52+K52+L52)/3 -> 0 | Q52: =(N52+O52+P52)/3 -> 0 | R52: =MAX(Q52,M52,I52) -> 0
A53: 49 | I53: =(F53+G53+H53)/3 -> 0 | M53: =(J53+K53+L53)/3 -> 0 | Q53: =(N53+O53+P53)/3 -> 0 | R53: =MAX(Q53,M53,I53) -> 0
A54: 50 | I54: =(F54+G54+H54)/3 -> 0 | M54: =(J54+K54+L54)/3 -> 0 | Q54: =(N54+O54+P54)/3 -> 0 | R54: =MAX(Q54,M54,I54) -> 0

Sheet Βαθμολογημένα
E1: MDC ΗΡΑΚΛΕΙΟ 27-28/10/18
A5: ΚΑΤΑΤΑΞΗ | B5: Α.Σ. | C5: ΟΔΗΓΟΣ | E5: ΑΥΤΟΚΙΝΗΤΟ | F5: TOP PASS
C6: ΕΠΙΘΕΤΟ | D6: ΟΝΟΜΑ
A7: 1ος | B7: =Βαθμολογίες!B5 -> 48 | C7: =Βαθμολογίες!C5 -> XRISTOFOROY | D7: =Βαθμολογίες!D5 -> GIORGOS | E7: =Βαθμολογίες!E5 -> BMW | F7: =Βαθμολογίες!R5 -> 99
A8: 2ος | B8: =Βαθμολογίες!B6 -> 1 | C8: =Βαθμολογίες!C6 -> GRILLIS | D8: =Βαθμολογίες!D6 -> STAYROS | E8: =Βαθμολογίες!E6 -> TOYOTA | F8: =Βαθμολογίες!R6 -> 97.666667
A9: 3ος | B9: =Βαθμολογίες!B7 -> 8 | C9: =Βαθμολογίες!C7 -> XARKAS | D9: =Βαθμολογίες!D7 -> TASOS | E9: =Βαθμολογίες!E7 -> BMW | F9: =Βαθμολογίες!R7 -> 97.333333
A10: 4ος | B10: =Βαθμολογίες!B8 -> 3 | C10: =Βαθμολογίες!C8 -> GOLOVNYA | D10: =Βαθμολογίες!D8 -> ALEX | E10: =Βαθμολογίες!E8 -> NISSAN | F10: =Βαθμολογίες!R8 -> 97
A11: 5ος | B11: =Βαθμολογίες!B9 -> 42 | C11: =Βαθμολογίες!C9 -> DAVID | D11: =Βαθμολογίες!D9 -> DAVID | E11: =Βαθμολογίες!E9 -> NISSAN | F11: =Βαθμολογίες!R9 -> 95.666667
A12: 6ος | B12: =Βαθμολογίες!B10 -> 27 | C12: =Βαθμολογίες!C10 -> DIMITROPOULOS | D12: =Βαθμολογίες!D10 -> KOSTAS | E12: =Βαθμολογίες!E10 -> BMW | F12: =Βαθμολογίες!R10 -> 95.333333
A13: 7ος | B13: =Βαθμολογίες!B11 -> 49 | C13: =Βαθμολογίες!C11 -> GRIGORIOU | D13: =Βαθμολογίες!D11 -> SERTZIO | E13: =Βαθμολογίες!E11 -> BMW | F13: =Βαθμολογίες!R11 -> 94.666667
A14: 8ος | B14: =Βαθμολογίες!B12 -> 2 | C14: =Βαθμολογίες!C12 -> ILLUYK | D14: =Βαθμολογίες!D12 -> DMITRIY | E14: =Βαθμολογίες!E12 -> NISSAN | F14: =Βαθμολογίες!R12 -> 93.666667
A15: 9ος | B15: =Βαθμολογίες!B13 -> 39 | C15: =Βαθμολογίες!C13 -> MARIOU | D15: =Βαθμολογίες!D13 -> KIRIAKOS | E15: =Βαθμολογίες!E13 -> NISSAN | F15: =Βαθμολογίες!R13 -> 92.666667
A16: 10ος | B16: =Βαθμολογίες!B14 -> 35 | C16: =Βαθμολογίες!C14 -> PAMPOS | D16: =Βαθμολογίες!D14 -> TSOURI | E16: =Βαθμολογίες!E14 -> NISSAN | F16: =Βαθμολογίες!R14 -> 91.666667
A17: 11ος | B17: =Βαθμολογίες!B15 -> 89 | C17: =Βαθμολογίες!C15 -> PAPAGEORGIOU | D17: =Βαθμολογίες!D15 -> GIORGOS | E17: =Βαθμολογίες!E15 -> BMW | F17: =Βαθμολογίες!R15 -> 91.666667
A18: 12ος | B18: =Βαθμολογίες!B16 -> 51 | C18: =Βαθμολογίες!C16 -> NIKOLAOY | D18: =Βαθμολογίες!D16 -> PAMPOS | E18: =Βαθμολογίες!E16 -> NISSAN | F18: =Βαθμολογίες!R16 -> 91.333333
... A43: 37ος | B43: =Βαθμολογίες!B41 -> 93 | C43: =Βαθμολογίες!C41 -> PETRAKIS | D43: =Βαθμολογίες!D41 -> MIXALIS | E43: =Βαθμολογίες!E41 -> OPEL | F43: =Βαθμολογίες!R41 -> 0
A44: 38ος
A45: 39ος
A46: 40ος
A47: 41ος
A48: 42ος
A49: 43ος
A50: 44ος
A51: 45ος
A52: 46ος
A53: 47ος
A54: 48ος
A55: 49ος
A56: 50ος

Sheet TOP 32
A1: 1 | B1: 9//7 | D1: =Βαθμολογίες!B5 -> 48 | AF1: 10//10 | AH1: =Βαθμολογίες!B6 -> 1 | AI1: 2
B2: =Βαθμολογίες!C5 -> XRISTOFOROY | AF2: =Βαθμολογίες!C6 -> GRILLIS
C3: VS | E3: 8//0 | G3: 48 | M3: MDC ΗΡΑΚΛΕΙΟ 27-28/10/18 | AC3: 5//7 | AE3: 1 | AG3: VS
E4: ΧΡΙΣΤΟΦΟΡΟΥ | G4: 11ος | AC4: ΓΡΥΛΛΗΣ
A5: 32 | B5: 1//3 | D5: =Βαθμολογίες!B36 -> 88 | E5: SD | AF5: 0//0 | AH5: =Βαθμολογίες!B35 -> 85 | AI5: 31
B6: =Βαθμολογίες!C36 -> GIANNAROS | H6: 0//4 | J6: 36 | Z6: 6//5 | AB6: 1 | AF6: =Βαθμολογίες!C35 -> LANTZANAKIS
F7: VS | H7: ΛΑΓΟΣ | J7: 8ος | Z7: ΓΡΥΛΛΗΣ | AD7: VS
A8: 16 | B8: 7//7 | D8: =Βαθμολογίες!B20 -> 36 | AF8: 10//8 | AH8: =Βαθμολογίες!B19 -> 22 | AI8: 15
B9: =Βαθμολογίες!C20 -> LAGOS | AF9: =Βαθμολογίες!C19 -> XATZARAS
C10: VS | E10: 2//10 | G10: 36 | P10: TOP 32 PRO | AC10: 5//3 | AE10: 22 | AG10: VS
E11: ΛΑΓΟΣ | AC11: ΧΑΤΖΑΡΑΣ | AE11: 10ος
A12: 17 | B12: 3//3 | D12: =Βαθμολογίες!B21 -> 83 | AA12: SD | AF12: 0//2 | AH12: =Βαθμολογίες!B22 -> 41 | AI12: 18
B13: =Βαθμολογίες!C21 -> LIMPERIS | I13: VS | K13: 0//3 | M13: 2 | W13: 10//6 | Y13: 1 | AA13: VS | AF13: =Βαθμολογίες!C22 -> ELEYTHERIOY
K14: ILLUYK | W14: ΓΡΥΛΛΗΣ
A15: 8 | B15: 10//10 | D15: =Βαθμολογίες!B12 -> 2 | AF15: 6//10 | AH15: =Βαθμολογίες!B11 -> 49 | AI15: 7
B16: =Βαθμολογίες!C12 -> ILLUYK | AF16: =Βαθμολογίες!C11 -> GRIGORIOU
C17: VS | E17: 10//10 | G17: 2 | AC17: 5//4 | AE17: 49 | AG17: VS
E18: ILLUYK | AC18: ΓΡΗΓΟΡΙΟΥ | AE18: 9ος
A19: 25 | B19: 0//0 | D19: =Βαθμολογίες!B29 -> 26 | AF19: 4//0 | AH19: =Βαθμολογίες!B30 -> 94 | AI19: 26
B20: =Βαθμολογίες!C29 -> ASLANHS | H20: 10//6 | J20: 2 | Z20: 4//5 | AB20: 90 | AD20: SD | AF20: =Βαθμολογίες!C30 -> ZILIMPINAKIS
F21: VS | H21: ILLUYK | Z21: ΤΣΑΓΚΑΡΑΚΗΣ | AB21: 6ος | AD21: VS
A22: 9 | B22: 5//0 | D22: =Βαθμολογίες!B13 -> 39 | AF22: 4.5//4 | AH22: =Βαθμολογίες!B14 -> 35 | AI22: 10
B23: =Βαθμολογίες!C13 -> MARIOU | P23: ΤΕΛΙΚΟΣ | AF23: =Βαθμολογίες!C14 -> PAMPOS
C24: VS | E24: 0//0 | G24: 39 | AC24: 5//6 | AE24: 90 | AG24: VS
E25: ΜΑΡΙΟΥ | G25: 16ος | L25: VS | N25: 3//10 | P25: 3 | R25: VS | T25: 7//0 | V25: 1 | X25: VS | AC25: ΤΣΑΓΚΑΡΑΚΗΣ
A26: 24 | B26: 5//0 | D26: =Βαθμολογίες!B28 -> 4 | N26: GOLOVNYA | T26: ΓΡΥΛΛΗΣ | V26: 2ος | AF26: 5.5//6 | AH26: =Βαθμολογίες!B27 -> 90 | AI26: 23
B27: =Βαθμολογίες!C28 -> KABARGIN | R27: ↓ | AF27: =Βαθμολογίες!C27 -> TSAGKARAKIS
A29: 4 | B29: 8//7.5 | D29: =Βαθμολογίες!B8 -> 3 | Q29: GOLOVNYA | S29: 1ος | AF29: 10//6.5 | AH29: =Βαθμολογίες!B7 -> 8 | AI29: 3
B30: =Βαθμολογίες!C8 -> GOLOVNYA | AF30: =Βαθμολογίες!C7 -> XARKAS
C31: VS | E31: 8//6 | G31: 3 | AC31: 10//8 | AE31: 8 | AG31: VS
E32: GOLOVNYA | AC32: ΧΑΡΚΑΣ
A33: 29 | B33: 2//2.5 | D33: =Βαθμολογίες!B33 -> 84 | AF33: 0//3.5 | AH33: =Βαθμολογίες!B34 -> 99 | AI33: 30
B34: =Βαθμολογίες!C33 -> ZERVALAKIS | H34: 6//5 | J34: 3 | Z34: 6.5//7 | AB34: 8 | AF34: =Βαθμολογίες!C34 -> XRISANTHOPOULOS
F35: VS | H35: GOLOVNYA | Z35: ΧΑΡΚΑΣ | AD35: VS
A36: 13 | B36: 10//6 | D36: =Βαθμολογίες!B17 -> 97 | AF36: 6//5 | AH36: =Βαθμολογίες!B18 -> 68 | AI36: 14
B37: =Βαθμολογίες!C17 -> ANDRIOTIS | AF37: =Βαθμολογίες!C18 -> LIMPERIS
C38: VS | E38: 2//4 | G38: 97 | AC38: 0//2 | AE38: 68 | AG38: VS
E39: ΑΝΔΡΙΩΤΗΣ | G39: 12ος | AC39: ΛΥΜΠΕΡΗΣ ΧΑΡΗΣ | AE39: 15ος
A40: 20 | B40: 0//4 | D40: =Βαθμολογίες!B24 -> 80 | I40: VS | K40: 10//7 | M40: 3 | W40: 0//4 | Y40: 8 | AA40: VS | AF40: 4//5 | AH40: =Βαθμολογίες!B23 -> 17 | AI40: 19
B41: =Βαθμολογίες!C24 -> TZOULAS | K41: GOLOVNYA | W41: ΧΑΡΚΑΣ | AF41: =Βαθμολογίες!C23 -> NTOYFEKIAS
A43: 5 | B43: 6.5//6.5 | D43: =Βαθμολογίες!B9 -> 42 | AF43: 7//7 | AH43: =Βαθμολογίες!B10 -> 27 | AI43: 6
B44: =Βαθμολογίες!C9 -> DAVID | P44: ΜΙΚΡΟΣ ΤΕΛΙΚΟΣ | AF44: =Βαθμολογίες!C10 -> DIMITROPOULOS
B45: SD | C45: VS | E45: 10//5 | G45: 42 | AC45: 10//5 | AE45: 27 | AG45: VS
E46: DAVID | N46: 4.5//10 | P46: 2 | R46: VS | T46: 5.5//0 | V46: 8 | AC46: ΔΗΜΗΤΡΟΠΟΥΛΟΣ
A47: 28 | B47: 3.5//3.5 | D47: =Βαθμολογίες!B32 -> 24 | N47: ILLUYK | T47: ΧΑΡΚΑΣ | V47: 4ος | AF47: 3//3 | AH47: =Βαθμολογίες!B31 -> 71 | AI47: 27
B48: =Βαθμολογίες!C32 -> KARAMPAKAKIS | H48: 4//5 | J48: 42 | R48: ↓ | Z48: 3.5//3 | AB48: 27 | AF48: =Βαθμολογίες!C31 -> KANELLOPOULOS
F49: VS | H49: DAVID | J49: 5ος | S49: 2 | Z49: ΔΗΜΗΤΡΟΠΟΥΛΟΣ | AB49: 7ος | AD49: VS
A50: 12 | B50: 7.5//5.5 | D50: =Βαθμολογίες!B16 -> 51 | Q50: ILLUYK | S50: 3ος | AF50: 10//10 | AH50: =Βαθμολογίες!B15 -> 89 | AI50: 11
B51: =Βαθμολογίες!C16 -> NIKOLAOY | AF51: =Βαθμολογίες!C15 -> PAPAGEORGIOU
C52: VS | E52: 0//5 | G52: 51 | AC52: 0//5 | AE52: 89 | AG52: VS
E53: ΝΙΚΟΛΑΟΥ | G53: 14ος | AC53: ΠΑΠΑΓΕΩΡΓΙΟΥ | AE53: 13ος
A54: 21 | B54: 2.5//4.5 | D54: =Βαθμολογίες!B25 -> 40 | U54: * | V54: ΜΑΧΕΣ | X54: ΑΡ.ΣΥΜ. | AF54: 0//0 | AH54: =Βαθμολογίες!B26 -> 72 | AI54: 22
B55: =Βαθμολογίες!C25 -> SIMIANOS | V55: ΕΠΙΘΕΤΟ | X55: ΚΑΤΑΤΑΞΗ | AF55: =Βαθμολογίες!C26 -> DROUGAS
E62: 1 | F62: 0//5 | H62: 8 | N62: V.Π.Π.D. ΗΡΑΚΛΕΙΟ 27-28/10/2018 | AD62: 10//6 | AF62: 27 | AG62: 2
F63: ΧΑΡΚΑΣ | H63: 12ος | AD63: ΔΗΜΗΤΡΟΠΟΥΛΟΣ
G65: SD | I65: 5.5//6.5 | K65: 24 | AA65: 4//5 | AC65: 27
G66: VS | I66: ΚΑΡΑΜΠΑΚΗΣ | AA66: ΔΗΜΗΤΡΟΠΟΥΛΟΣ | AC66: 5ος | AE66: VS
B67: 16 | C67: 7//10 | E67: 24 | AG67: 4.5//10 | AI67: 72 | AJ67: 15
C68: ΚΑΡΑΜΠΑΚΑΚΗΣ | AG68: ΚΑΝΕΛΛΟΠΟΥΛΟΣ
D69: VS | F69: 10//5 | H69: 24 | Q69: TOP 24 PRO | AD69: 0//4 | AF69: 72 | AI69: VS
F70: ΚΑΡΑΜΠΑΚΑΚΗΣ | AD70: ΚΑΝΕΛΛΟΠΟΥΛΟΣ | AF70: 16ος
B71: 17 | C71: 3//0 | E71: 84 | AG71: 5.5//0 | AI71: 99 | AJ71: 18
C72: ΖΕΡΒΑΛΑΚΗΣ | E72: 21ος | J72: VS | L72: 10//10 | N72: 24 | X72: 0//3 | Z72: 36 | AB72: VS | AG72: ΧΡΥΣΑΝΘΟΠΟΥΛΟΣ | AI72: 19ος
L73: ΚΑΡΑΜΠΑΚΗΣ | X73: ΛΑΓΟΣ
E76: 8 | F76: 6.5//5 | H76: 83 | AD76: 7//6 | AF76: 36 | AG76: 7
F77: ΛΥΜΠΕΡΗΣ | AD77: ΛΑΓΟΣ
I79: 4.5//3.5 | K79: 83 | AA79: 6//5 | AC79: 36
G80: VS | I80: ΛΥΜΠΕΡΗΣ | K80: 6ος | AA80: ΛΑΓΟΣ | AE80: VS
B81: 9 | E81: 17 | AI81: 80 | AJ81: 10
C82: ΝΤΟΥΦΕΚΙΑΣ | Q82: ΤΕΛΙΚΟΣ | AG82: ΤΖΟΥΛΑΣ
D83: VS | F83: 3.5//5 | H83: 17 | AD83: 3//4 | AF83: 80 | AI83: VS
F84: ΝΤΟΥΦΕΚΙΑΣ | H84: 9ος | M84: VS | O84: 0//0 | Q84: 24 | S84: VS | U84: 10//10 | W84: 22 | Y84: VS | AD84: ΤΖΟΥΛΑΣ | AF84: 11ος
B85: 24 | E85: 0 | O85: ΚΑΡΑΜΠΑΚΗΣ | Q85: 2ος | U85: ΧΑΤΖΑΡΑΣ | AI85: 0 | AJ85: 23
C86: 0 | S86: ↓ | AG86: 0
T87: 22
R88: ΧΑΤΖΑΡΑΣ | T88: 1ος
E90: 4 | F90: 5//0 | H90: 97 | AD90: 5//0 | AF90: 89 | AG90: 3
F91: ΑΝΔΡΙΩΤΗΣ | H91: 14ος | AD91: ΠΑΠΑΓΕΩΡΓΙΟΥ | AF91: 13ος
I93: 10//10 | K93: 26 | AA93: 1//6 | AC93: 94
G94: VS | I94: ΑΣΛΑΝΗΣ | AA94: ΖΙΛΙΜΠΙΝΑΚΗΣ | AC94: 7ος | AE94: VS
B95: 13 | C95: 8//7 | E95: 26 | AG95: 10//0 | AI95: 94 | AJ95: 14
C96: ΑΣΛΑΝΗΣ | AG96: ΖΙΛΙΜΠΙΝΑΚΗΣ
D97: VS | F97: 5//10 | H97: 26 | AD97: 5//10 | AF97: 94
F98: ΑΣΛΑΝΗΣ | AD98: ΖΙΛΙΜΠΙΝΑΚΗΣ
B99: 20 | C99: 2//3 | E99: 88 | J99: VS | L99: 0//0 | N99: 26 | X99: 10//7 | Z99: 22 | AB99: VS | AG99: 0//0 | AI99: 85 | AJ99: 19
C100: ΓΙΑΝΝΑΡΟΣ | E100: 20ος | L100: ΑΣΛΑΝΗΣ | X100: ΧΑΤΖΑΡΑΣ | AG100: ΛΑΝΤΖΑΝΑΚΗΣ | AI100: 22ος
Q103: ΜΙΚΡΟΣ ΤΕΛΙΚΟΣ
E104: 5 | F104: 7//0 | H104: 68 | AD104: 8//7 | AF104: 22 | AG104: 6
F105: ΛΥΜΠΕΡΗΣ | H105: 10ος | O105: 0//0 | Q105: 26 | S105: VS | U105: 10//10 | W105: 36 | AD105: ΧΑΤΖΑΡΑΣ
O106: ΑΣΛΑΝΗΣ | Q106: 4ος | U106: ΛΑΓΟΣ
I107: 0//0 | K107: 92 | S107: ↓ | AA107: 9//4 | AC107: 22
G108: VS | I108: ΣΓΟΥΡΑΚΗΣ | K108: 8ος | T108: 36 | AA108: ΧΑΤΖΑΡΑΣ | AE108: VS
B109: 12 | C109: 8//0 | E109: 90 | R109: ΛΑΓΟΣ | T109: 3ος | AG109: 7//5 | AI109: 72 | AJ109: 11
C110: ΤΣΑΓΚΑΡΑΚΗΣ | E110: 17ος | AG110: ΔΡΟΥΓΑΣ
D111: VS | F111: 3//10 | H111: 92 | AD111: 2//3 | AF111: 72 | AI111: VS
F112: ΣΓΟΥΡΑΚΗΣ | AD112: ΔΡΟΥΓΑΣ | AF112: 15ος
B113: 21 | C113: 2//10 | E113: 92 | V113: * | W113: ΜΑΧΕΣ | Y113: ΑΡ.ΣΥΜ. | AG113: 3//5 | AI113: 87 | AJ113: 22
C114: ΣΓΟΥΡΑΚΗΣ | W114: ΕΠΙΘΕΤΟ | Y114: ΚΑΤΑΤΑΞΗ | AG114: ΜΕΤΑΞΑΚΗΣ | AI114: 18ος

Sheet Αποτελέσματα
E1: MDC ΗΡΑΚΛΕΙΟ 27-28/10/18
A4: ΚΑΤΑΤΑΞΗ | B4: Α.Σ. | C4: ΟΔΗΓΟΣ | E4: ΑΥΤΟΚΙΝΗΤΟ
C5: ΕΠΙΘΕΤΟ | D5: ΟΝΟΜΑ
A6: 1ος | B6: =Βαθμολογίες!B8 -> 3 | C6: =Βαθμολογίες!C8 -> GOLOVNYA | D6: =Βαθμολογίες!D8 -> ALEX | E6: =Βαθμολογίες!E8 -> NISSAN
A7: 2ος | B7: =Βαθμολογίες!B6 -> 1 | C7: =Βαθμολογίες!C6 -> GRILLIS | D7: =Βαθμολογίες!D6 -> STAYROS | E7: =Βαθμολογίες!E6 -> TOYOTA
A8: 3ος | B8: =Βαθμολογίες!B12 -> 2 | C8: =Βαθμολογίες!C12 -> ILLUYK | D8: =Βαθμολογίες!D12 -> DMITRIY | E8: =Βαθμολογίες!E12 -> NISSAN
A9: 4ος | B9: =Βαθμολογίες!B7 -> 8 | C9: =Βαθμολογίες!C7 -> XARKAS | D9: =Βαθμολογίες!D7 -> TASOS | E9: =Βαθμολογίες!E7 -> BMW
A10: 5ος | B10: =Βαθμολογίες!B9 -> 42 | C10: =Βαθμολογίες!C9 -> DAVID | D10: =Βαθμολογίες!D9 -> DAVID | E10: =Βαθμολογίες!E9 -> NISSAN
A11: 6ος | B11: =Βαθμολογίες!B27 -> 90 | C11: =Βαθμολογίες!C27 -> TSAGKARAKIS | D11: =Βαθμολογίες!D27 -> DIMITRIS | E11: =Βαθμολογίες!E27 -> BMW
A12: 7ος | B12: =Βαθμολογίες!B10 -> 27 | C12: =Βαθμολογίες!C10 -> DIMITROPOULOS | D12: =Βαθμολογίες!D10 -> KOSTAS | E12: =Βαθμολογίες!E10 -> BMW
A13: 8ος | B13: =Βαθμολογίες!B20 -> 36 | C13: =Βαθμολογίες!C20 -> LAGOS | D13: =Βαθμολογίες!D20 -> GIORGOS | E13: =Βαθμολογίες!E20 -> BMW
A14: 9ος | B14: =Βαθμολογίες!B11 -> 49 | C14: =Βαθμολογίες!C11 -> GRIGORIOU | D14: =Βαθμολογίες!D11 -> SERTZIO | E14: =Βαθμολογίες!E11 -> BMW
A15: 10ος | B15: =Βαθμολογίες!B19 -> 22 | C15: =Βαθμολογίες!C19 -> XATZARAS | D15: =Βαθμολογίες!D19 -> XRISTOS | E15: =Βαθμολογίες!E19 -> BMW
A16: 11ος | B16: =Βαθμολογίες!B5 -> 48 | C16: =Βαθμολογίες!C5 -> XRISTOFOROY | D16: =Βαθμολογίες!D5 -> GIORGOS | E16: =Βαθμολογίες!E5 -> BMW
A17: 12ος | B17: =Βαθμολογίες!B17 -> 97 | C17: =Βαθμολογίες!C17 -> ANDRIOTIS | D17: =Βαθμολογίες!D17 -> NIKOS | E17: =Βαθμολογίες!E17 -> BMW
A18: 13ος | B18: =Βαθμολογίες!B15 -> 89 | C18: =Βαθμολογίες!C15 -> PAPAGEORGIOU | D18: =Βαθμολογίες!D15 -> GIORGOS | E18: =Βαθμολογίες!E15 -> BMW
A19: 14ος | B19: =Βαθμολογίες!B16 -> 51 | C19: =Βαθμολογίες!C16 -> NIKOLAOY | D19: =Βαθμολογίες!D16 -> PAMPOS | E19: =Βαθμολογίες!E16 -> NISSAN
A20: 15ος | B20: =Βαθμολογίες!B18 -> 68 | C20: =Βαθμολογίες!C18 -> LIMPERIS | D20: =Βαθμολογίες!D18 -> XARIS | E20: =Βαθμολογίες!E18 -> TOYOTA
A21: 16ος | B21: =Βαθμολογίες!B13 -> 39 | C21: =Βαθμολογίες!C13 -> MARIOU | D21: =Βαθμολογίες!D13 -> KIRIAKOS | E21: =Βαθμολογίες!E13 -> NISSAN
E24: V.Π.Π.D. ΗΡΑΚΛΕΙΟ 27-28/10/2018
A27: ΚΑΤΑΤΑΞΗ | B27: Α.Σ. | C27: ΟΔΗΓΟΣ | E27: ΑΥΤΟΚΙΝΗΤΟ
C28: ΕΠΙΘΕΤΟ | D28: ΟΝΟΜΑ
A29: 1ος | B29: 22 | C29: ΧΑΤΖΑΡΑΣ | D29: ΧΡΗΣΤΟΣ | E29: BMW
A30: 2ος | B30: 24 | C30: ΚΑΡΑΜΠΑΚΑΚΗΣ | D30: ΝΕΚΤΑΡΙΟΣ | E30: NISSAN
A31: 3ος | B31: 36 | C31: ΛΑΓΟΣ | D31: ΓΙΩΡΓΟΣ | E31: BMW
A32: 4ος | B32: 26 | C32: ΑΣΛΑΝΗΣ | D32: ΜΑΝΟΣ | E32: FORD
A33: 5ος | B33: 27 | C33: ΔΗΜΗΤΡΟΠΟΥΛΟΣ | D33: ΚΩΣΤΑΣ | E33: BMW
A34: 6ος | B34: 83 | C34: ΛΥΜΠΕΡΗΣ | D34: ΓΙΑΝΝΗΣ | E34: TOYOTA
A35: 7ος | B35: 94 | C35: ΖΙΛΙΜΠΙΝΑΚΗΣ | D35: ΝΙΚΟΣ | E35: BMW
A36: 8ος | B36: 92 | C36: ΣΓΟΥΡΑΚΗΣ | D36: ΝΙΚΟΣ | E36: BMW
A37: 9ος | B37: 17 | C37: ΝΤΟΥΦΕΚΙΑΣ | D37: ΝΙΚΟΣ | E37: TOYOTA
A38: 10ος | B38: 68 | C38: ΛΥΜΠΕΡΗΣ | D38: ΧΑΡΗΣ | E38: TOYOTA
A39: 11ος | B39: 80 | C39: ΤΖΟΥΛΑΣ | D39: ΒΑΓΓΕΛΗΣ | E39: BMW
A40: 12ος | B40: 8 | C40: ΧΑΡΚΑΣ | D40: ΤΑΣΟΣ | E40: BMW
... A44: 16ος | B44: 71 | C44: ΚΑΝΕΛΛΟΠΟΥΛΟΣ | D44: ΓΙΑΝΝΗΣ | E44: BMW

Sheet Κατάσταση συμμ.
E1: MDC ΗΡΑΚΛΕΙΟ 27-28/10/18
A4: α.α. | B4: Α.Σ. | C4: ΕΠΙΘΕΤΟ | D4: ΟΝΟΜΑ | E4: ΑΥΤΟΚΙΝΗΤΟ
A5: 1 | B5: =Βαθμολογίες!B5 -> 48 | C5: =Βαθμολογίες!C5 -> XRISTOFOROY | D5: =Βαθμολογίες!D5 -> GIORGOS | E5: =Βαθμολογίες!E5 -> BMW
A6: 2 | B6: =Βαθμολογίες!B6 -> 1 | C6: =Βαθμολογίες!C6 -> GRILLIS | D6: =Βαθμολογίες!D6 -> STAYROS | E6: =Βαθμολογίες!E6 -> TOYOTA
A7: 3 | B7: =Βαθμολογίες!B7 -> 8 | C7: =Βαθμολογίες!C7 -> XARKAS | D7: =Βαθμολογίες!D7 -> TASOS | E7: =Βαθμολογίες!E7 -> BMW
A8: 4 | B8: =Βαθμολογίες!B8 -> 3 | C8: =Βαθμολογίες!C8 -> GOLOVNYA | D8: =Βαθμολογίες!D8 -> ALEX | E8: =Βαθμολογίες!E8 -> NISSAN
A9: 5 | B9: =Βαθμολογίες!B9 -> 42 | C9: =Βαθμολογίες!C9 -> DAVID | D9: =Βαθμολογίες!D9 -> DAVID | E9: =Βαθμολογίες!E9 -> NISSAN
A10: 6 | B10: =Βαθμολογίες!B10 -> 27 | C10: =Βαθμολογίες!C10 -> DIMITROPOULOS | D10: =Βαθμολογίες!D10 -> KOSTAS | E10: =Βαθμολογίες!E10 -> BMW
A11: 7 | B11: =Βαθμολογίες!B11 -> 49 | C11: =Βαθμολογίες!C11 -> GRIGORIOU | D11: =Βαθμολογίες!D11 -> SERTZIO | E11: =Βαθμολογίες!E11 -> BMW
A12: 8 | B12: =Βαθμολογίες!B12 -> 2 | C12: =Βαθμολογίες!C12 -> ILLUYK | D12: =Βαθμολογίες!D12 -> DMITRIY | E12: =Βαθμολογίες!E12 -> NISSAN
A13: 9 | B13: =Βαθμολογίες!B13 -> 39 | C13: =Βαθμολογίες!C13 -> MARIOU | D13: =Βαθμολογίες!D13 -> KIRIAKOS | E13: =Βαθμολογίες!E13 -> NISSAN
A14: 10 | B14: =Βαθμολογίες!B14 -> 35 | C14: =Βαθμολογίες!C14 -> PAMPOS | D14: =Βαθμολογίες!D14 -> TSOURI | E14: =Βαθμολογίες!E14 -> NISSAN
A15: 11 | B15: =Βαθμολογίες!B15 -> 89 | C15: =Βαθμολογίες!C15 -> PAPAGEORGIOU | D15: =Βαθμολογίες!D15 -> GIORGOS | E15: =Βαθμολογίες!E15 -> BMW
A16: 12 | B16: =Βαθμολογίες!B16 -> 51 | C16: =Βαθμολογίες!C16 -> NIKOLAOY | D16: =Βαθμολογίες!D16 -> PAMPOS | E16: =Βαθμολογίες!E16 -> NISSAN
... A41: 37 | B41: =Βαθμολογίες!B41 -> 93 | C41: =Βαθμολογίες!C41 -> PETRAKIS | D41: =Βαθμολογίες!D41 -> MIXALIS | E41: =Βαθμολογίες!E41 -> OPEL
A42: 38
A43: 39
A44: 40
A45: 41
A46: 42
A47: 43
A48: 44
A49: 45
A50: 46
A51: 47
A52: 48
A53: 49
A54: 50
